BEGIN:VCALENDAR
VERSION:2.0
PRODID:-//IPQC Consulting
CALSCALE:GREGORIAN
METHOD:PUBLISH
X-WR-CALNAME:IPQC Consulting
X-ORIGINAL-URL:https://ipqc.in/product/scm-for-profitable-business-in-dynamic-global-markets/
X-WR-CALDESC:SCM for Profitable Business in Dynamic Global Markets
BEGIN:VEVENT
DTSTART;TZID=Asia/Kolkata:20200411T090000
DTEND;TZID=Asia/Kolkata:20200411T173000
SUMMARY:SCM for Profitable Business in Dynamic Global Markets
DESCRIPTION:
URL:https://ipqc.in/product/scm-for-profitable-business-in-dynamic-global-markets/
LOCATION:IPQC Consulting Services, 91 Springboard, 4th Floor, Big Bazar Building, 7th Block, Koramangala, Bangalore-560095
END:VEVENT
END:VCALENDAR
