BEGIN:VCALENDAR
VERSION:2.0
PRODID:-//IPQC Consulting
CALSCALE:GREGORIAN
METHOD:PUBLISH
X-WR-CALNAME:IPQC Consulting
X-ORIGINAL-URL:https://ipqc.in/product/enhanced-profits-thru-effective-business-planning-and-budgeting/
X-WR-CALDESC:Enhanced Profits thru Effective Business Planning and Budgeting
BEGIN:VEVENT
DTSTART;TZID=Asia/Kolkata:20200222T090000
DTEND;TZID=Asia/Kolkata:20200222T173000
SUMMARY:Enhanced Profits thru Effective Business Planning and Budgeting
DESCRIPTION:Business exists for Profits. Profits are not generated just like that. (“Nobody plans to fail, they fail to plan”).They have to be planned. Every business owner needs to understand how to make a business plan and a budget to ensure they run a Sustainable &amp; Profitable Business. Register before 18th Feb to avail 10% discount For 2 or more participants additional 10% discount
URL:https://ipqc.in/product/enhanced-profits-thru-effective-business-planning-and-budgeting/
LOCATION:IPQC Consulting Services, 91Springboard, 4th Floor, Big Bazar Building, 7th Block, Koramanagala, Bangalore-560095
END:VEVENT
END:VCALENDAR
