BEGIN:VCALENDAR
VERSION:2.0
PRODID:-//IPQC Consulting
CALSCALE:GREGORIAN
METHOD:PUBLISH
X-WR-CALNAME:IPQC Consulting
X-ORIGINAL-URL:https://ipqc.in/product/online-sme-ceo-club-meeting-08/
X-WR-CALDESC:Online SME CEO Club &#8211; Meeting #08
BEGIN:VEVENT
DTSTART;TZID=Asia/Kolkata:20230922T150000
DTEND;TZID=Asia/Kolkata:20230922T170000
SUMMARY:Online SME CEO Club – Meeting #08
DESCRIPTION:In today’s harsh business environment it is becoming increasingly difficult for industry owners to address Business challenges . Hence this unique initiative “CEO Club” is being formed to facilitate a Collaborative method to solve and support each other in transforming the Manufacturing Organisations to become globally competitive. Mode: Online via Zoom Detailed program newsletter: Click here
URL:https://ipqc.in/product/online-sme-ceo-club-meeting-08/
LOCATION:
END:VEVENT
END:VCALENDAR
