BEGIN:VCALENDAR
VERSION:2.0
PRODID:-//IPQC Consulting
CALSCALE:GREGORIAN
METHOD:PUBLISH
X-WR-CALNAME:IPQC Consulting
X-ORIGINAL-URL:https://ipqc.in/product/workshop-on-vendor-development-for-aerospace-industry-using-apqp-process/
X-WR-CALDESC:Workshop on Vendor Development for Aerospace Industry using APQP Process
BEGIN:VEVENT
DTSTART;TZID=Asia/Kolkata:20230805T100000
DTEND;TZID=Asia/Kolkata:20230806T170000
SUMMARY:Workshop on Vendor Development for Aerospace Industry using APQP Process
DESCRIPTION:The workshop explains the procedures from concept development to First Article Inspection which will make the entrepreneurs and job aspirants to be ready to face the challenge. It also helps to understand how to become a supplier to aerospace. ➤ Early booking offer - Hurry Up! ₹500 off for participants booking before 4th August 2023  ➤ For 3 or more participants avail 10% discount ➤ Avail ₹1000 student discount using the code STDTRN1000 and Flash your official ID card during the workshop ➤ To pay online via UPI you can use this UPI id - 6360848313@UPI and inform events@ipqc.in Mode: Offline and Interactive (Saturday and Sunday) Duration: 2 days
URL:https://ipqc.in/product/workshop-on-vendor-development-for-aerospace-industry-using-apqp-process/
LOCATION:Novel Tech Park, Hosur Road, Kudlu Gate, Krishna Reddy Industrial Area, H.S, R Extension, Bengaluru, Karnataka, India
END:VEVENT
END:VCALENDAR
