BEGIN:VCALENDAR
VERSION:2.0
PRODID:-//IPQC Consulting
CALSCALE:GREGORIAN
METHOD:PUBLISH
X-WR-CALNAME:IPQC Consulting
X-ORIGINAL-URL:https://ipqc.in/product/webinar-on-hydrogen-the-fuel-of-the-future/
X-WR-CALDESC:Webinar on &#8220;Hydrogen – the Fuel of the Future&#8221;
BEGIN:VEVENT
DTSTART;TZID=Asia/Kolkata:20230624T150000
DTEND;TZID=Asia/Kolkata:20230624T160000
SUMMARY:Webinar on “Hydrogen – the Fuel of the Future”
DESCRIPTION:This webinar introduces basics of green hydrogen and its economic potential as a renewable fuel. Mode: Online via Zoom
URL:https://ipqc.in/product/webinar-on-hydrogen-the-fuel-of-the-future/
LOCATION:Online
END:VEVENT
END:VCALENDAR
