BEGIN:VCALENDAR
VERSION:2.0
PRODID:-//IPQC Consulting
CALSCALE:GREGORIAN
METHOD:PUBLISH
X-WR-CALNAME:IPQC Consulting
X-ORIGINAL-URL:https://ipqc.in/product/online-workshop-on-supply-chain-analytics-for-global-competitiveness-2/
X-WR-CALDESC:Online Workshop on &#8220;Supply Chain Analytics for Global Competitiveness&#8221;
BEGIN:VEVENT
DTSTART;TZID=Asia/Kolkata:20220613T190000
DTEND;TZID=Asia/Kolkata:20220625T210000
SUMMARY:Online Workshop on “Supply Chain Analytics for Global Competitiveness”
DESCRIPTION:The main objective of the program is to provide participants an in-depth understanding of SCM domain, including the current models, best practices and tools and techniques. Registered and paid participants would be eligible to attend the 07 days online workshop. ➤ Early booking offer - Hurry Up! ₹1500 off for participants booking before 15th May 2022  ➤ For 3 or more participants avail 10% discount ➤ To pay online via UPI you can use this UPI id - 6360848313@UPI and inform events@ipqc.in Mode: Online via Zoom from Monday to Sunday Duration: 07 sessions - 07 days Timing: 7:00 PM to 9:00 PM (daily 2 hours)
URL:https://ipqc.in/product/online-workshop-on-supply-chain-analytics-for-global-competitiveness-2/
LOCATION:Online
END:VEVENT
END:VCALENDAR
