BEGIN:VCALENDAR
VERSION:2.0
PRODID:-//IPQC Consulting
CALSCALE:GREGORIAN
METHOD:PUBLISH
X-WR-CALNAME:IPQC Consulting
X-ORIGINAL-URL:https://ipqc.in/product/workshop-on-supply-chain-beer-game/
X-WR-CALDESC:Workshop on Supply Chain Beer Game
BEGIN:VEVENT
DTSTART;TZID=Asia/Kolkata:20210702T140000
DTEND;TZID=Asia/Kolkata:20210702T170000
SUMMARY:Workshop on Supply Chain Beer Game
DESCRIPTION:The main objective of the Supply chain Beer game is to analyze two important aspects of the supply chain, the total cost of the supply chain and orders placed in the supply chain. Mode: Online via Zoom
URL:https://ipqc.in/product/workshop-on-supply-chain-beer-game/
LOCATION:Online
END:VEVENT
END:VCALENDAR
